BEGIN:VCALENDAR
VERSION:2.0
PRODID:-//Yaplu-k - ECPv6.15.16//NONSGML v1.0//EN
CALSCALE:GREGORIAN
METHOD:PUBLISH
X-ORIGINAL-URL:https://www.yaplu-k.org
X-WR-CALDESC:Évènements pour Yaplu-k
REFRESH-INTERVAL;VALUE=DURATION:PT1H
X-Robots-Tag:noindex
X-PUBLISHED-TTL:PT1H
BEGIN:VTIMEZONE
TZID:Europe/Paris
BEGIN:DAYLIGHT
TZOFFSETFROM:+0100
TZOFFSETTO:+0200
TZNAME:CEST
DTSTART:20250330T010000
END:DAYLIGHT
BEGIN:STANDARD
TZOFFSETFROM:+0200
TZOFFSETTO:+0100
TZNAME:CET
DTSTART:20251026T010000
END:STANDARD
BEGIN:DAYLIGHT
TZOFFSETFROM:+0100
TZOFFSETTO:+0200
TZNAME:CEST
DTSTART:20260329T010000
END:DAYLIGHT
BEGIN:STANDARD
TZOFFSETFROM:+0200
TZOFFSETTO:+0100
TZNAME:CET
DTSTART:20261025T010000
END:STANDARD
BEGIN:DAYLIGHT
TZOFFSETFROM:+0100
TZOFFSETTO:+0200
TZNAME:CEST
DTSTART:20270328T010000
END:DAYLIGHT
BEGIN:STANDARD
TZOFFSETFROM:+0200
TZOFFSETTO:+0100
TZNAME:CET
DTSTART:20271031T010000
END:STANDARD
END:VTIMEZONE
BEGIN:VEVENT
DTSTART;TZID=Europe/Paris:20260314T100000
DTEND;TZID=Europe/Paris:20260314T120000
DTSTAMP:20260420T085628
CREATED:20260310T191504Z
LAST-MODIFIED:20260310T191504Z
UID:5362-1773482400-1773489600@www.yaplu-k.org
SUMMARY:Atelier : Renforcer sa confiance en soi avec le Scrabble
DESCRIPTION:En début d’année\, nous prenons souvent le temps de poser des intentions\, d’imaginer ce que nous souhaitons voir évoluer dans notre vie\, nos projets ou notre manière d’être. \nMais entre les intentions et leur réalisation\, il y a un ingrédient essentiel : la confiance en soi. \nCet atelier est une invitation à renforcer cette confiance afin de continuer à avancer sur le chemin que vous avez choisi\, à votre rythme\, avec plus de sérénité et de légèreté. \nÀ travers un moment convivial et bienveillant\, nous utiliserons le jeu du Scrabble comme support ludique et inspirant pour explorer les mots\, les croyances et les ressources qui nous habitent. Jouer avec les lettres et les mots permet souvent de faire émerger de nouvelles perspectives\, de prendre conscience de ses forces et d’ouvrir des chemins inattendus. \nCet atelier vous permettra notamment de : \n\n\nprendre conscience de vos ressources et de vos forces \n\n\nrenforcer votre confiance en vous \n\n\ndépasser certaines croyances limitantes \n\n\nsoutenir les actions déjà engagées \n\n\nretrouver de l’élan pour poursuivre votre chemin \n\n\nAucun niveau particulier n’est nécessaire pour participer. L’essentiel est d’avoir l’envie de prendre un temps pour vous et d’explorer votre potentiel dans un cadre bienveillant. \nInformations pratiques\n📅 Samedi 14 mars📍 Café solidaire – Haguenau👥 Groupe limité pour favoriser les échanges \nCet atelier s’inscrit dans une démarche d’accompagnement qui invite chacun à se reconnecter à ses ressources\, à se mettre en mouvement et à trouver sa place avec confiance. \n👉 Les places étant limitées\, nous vous invitons à réserver votre place dès maintenant.
URL:https://www.yaplu-k.org/evenement/atelier-renforcer-sa-confiance-en-soi-avec-le-scrabble/
LOCATION:Safe Haven Café\, 2 Rue des dominicains\, Haguenau\, 67500\, France
CATEGORIES:profession
ATTACH;FMTTYPE=image/jpeg:https://www.yaplu-k.org/wp-content/uploads/2026/03/Atelier-decriture-avec-scrabble-2.jpg
END:VEVENT
END:VCALENDAR