BEGIN:VCALENDAR
VERSION:2.0
PRODID:-//Yaplu-k - ECPv6.15.16//NONSGML v1.0//EN
CALSCALE:GREGORIAN
METHOD:PUBLISH
X-WR-CALNAME:Yaplu-k
X-ORIGINAL-URL:https://www.yaplu-k.org
X-WR-CALDESC:Évènements pour Yaplu-k
REFRESH-INTERVAL;VALUE=DURATION:PT1H
X-Robots-Tag:noindex
X-PUBLISHED-TTL:PT1H
BEGIN:VTIMEZONE
TZID:Europe/Paris
BEGIN:DAYLIGHT
TZOFFSETFROM:+0100
TZOFFSETTO:+0200
TZNAME:CEST
DTSTART:20250330T010000
END:DAYLIGHT
BEGIN:STANDARD
TZOFFSETFROM:+0200
TZOFFSETTO:+0100
TZNAME:CET
DTSTART:20251026T010000
END:STANDARD
BEGIN:DAYLIGHT
TZOFFSETFROM:+0100
TZOFFSETTO:+0200
TZNAME:CEST
DTSTART:20260329T010000
END:DAYLIGHT
BEGIN:STANDARD
TZOFFSETFROM:+0200
TZOFFSETTO:+0100
TZNAME:CET
DTSTART:20261025T010000
END:STANDARD
BEGIN:DAYLIGHT
TZOFFSETFROM:+0100
TZOFFSETTO:+0200
TZNAME:CEST
DTSTART:20270328T010000
END:DAYLIGHT
BEGIN:STANDARD
TZOFFSETFROM:+0200
TZOFFSETTO:+0100
TZNAME:CET
DTSTART:20271031T010000
END:STANDARD
END:VTIMEZONE
BEGIN:VEVENT
DTSTART;TZID=Europe/Paris:20260130T093000
DTEND;TZID=Europe/Paris:20260130T120000
DTSTAMP:20260420T123103
CREATED:20260117T114431Z
LAST-MODIFIED:20260117T114431Z
UID:5340-1769765400-1769774400@www.yaplu-k.org
SUMMARY:Atelier carte mentale - Poser ses intentions 2026
DESCRIPTION:𝐄𝐭 𝐬𝐢 𝐭𝐮 𝐩𝐫𝐞𝐧𝐚𝐢𝐬 𝐥𝐞 𝐭𝐞𝐦𝐩𝐬 𝐝𝐞 𝐝𝐞𝐬𝐬𝐢𝐧𝐞𝐫 𝐭𝐨𝐧 𝟐𝟎𝟐𝟔 ? \n\n\n\nLe vendredi 30 janvier\, l’association YA’PLU-K t’invite à un temps pour toi\, créatif et inspirant\, pour réaliser ta 𝐜𝐚𝐫𝐭𝐞 𝐦𝐞𝐧𝐭𝐚𝐥𝐞 𝟐𝟎𝟐𝟔 \n\n\n\n 𝐕𝐞𝐧𝐝𝐫𝐞𝐝𝐢 𝟑𝟎 𝐣𝐚𝐧𝐯𝐢𝐞𝐫\n 𝟗𝐡𝟑𝟎 – 𝟏𝟐𝐡\n 𝐇𝐚𝐠𝐮𝐞𝐧𝐚𝐮 – Café solidaire Safe Haven\n\n\n\nUn moment convivial pour poser tes intentions\, clarifier tes envies\, donner du sens à tes projets et repartir avec une vision claire et motivante de ton année à venir \n\n\n Ambiance chaleureuse\, échanges\, créativité et énergie positive au programme !\n\n\n\n Intéressé·e ? Envie d’en savoir plus ou de t’inscrire ?\nhttps://tally.so/r/RGMEvJ \n\n\n\nAu plaisir de partager ce moment avec toi \n\n\nChristelle
URL:https://www.yaplu-k.org/evenement/atelier-carte-mentale-poser-ses-intentions-2026/
LOCATION:Safe Haven Café\, 2 Rue des dominicains\, Haguenau\, 67500\, France
END:VEVENT
END:VCALENDAR