BEGIN:VCALENDAR
VERSION:2.0
PRODID:-//Yaplu-k - ECPv6.15.16//NONSGML v1.0//EN
CALSCALE:GREGORIAN
METHOD:PUBLISH
X-ORIGINAL-URL:https://www.yaplu-k.org
X-WR-CALDESC:Évènements pour Yaplu-k
REFRESH-INTERVAL;VALUE=DURATION:PT1H
X-Robots-Tag:noindex
X-PUBLISHED-TTL:PT1H
BEGIN:VTIMEZONE
TZID:Europe/Paris
BEGIN:DAYLIGHT
TZOFFSETFROM:+0100
TZOFFSETTO:+0200
TZNAME:CEST
DTSTART:20240331T010000
END:DAYLIGHT
BEGIN:STANDARD
TZOFFSETFROM:+0200
TZOFFSETTO:+0100
TZNAME:CET
DTSTART:20241027T010000
END:STANDARD
BEGIN:DAYLIGHT
TZOFFSETFROM:+0100
TZOFFSETTO:+0200
TZNAME:CEST
DTSTART:20250330T010000
END:DAYLIGHT
BEGIN:STANDARD
TZOFFSETFROM:+0200
TZOFFSETTO:+0100
TZNAME:CET
DTSTART:20251026T010000
END:STANDARD
BEGIN:DAYLIGHT
TZOFFSETFROM:+0100
TZOFFSETTO:+0200
TZNAME:CEST
DTSTART:20260329T010000
END:DAYLIGHT
BEGIN:STANDARD
TZOFFSETFROM:+0200
TZOFFSETTO:+0100
TZNAME:CET
DTSTART:20261025T010000
END:STANDARD
END:VTIMEZONE
BEGIN:VEVENT
DTSTART;TZID=Europe/Paris:20251021T093000
DTEND;TZID=Europe/Paris:20251021T120000
DTSTAMP:20260424T155615
CREATED:20250920T093939Z
LAST-MODIFIED:20250920T093939Z
UID:5304-1761039000-1761048000@www.yaplu-k.org
SUMMARY:Atelier d'écriture : Oser la confiance !
DESCRIPTION:Et si vous veniez jouer une partie de Scrabble pas comme les autres ?Parce qu’il est parfois essentiel de s’arrêter… et de transformer nos maux en mots. \nQue vous soyez en reconversion\, porteur·se de projet\, en recherche d’emploi ou simplement en plein questionnement\, cet atelier d’écriture est une parenthèse pour :✨ reprendre confiance en vous✨ retrouver de l’élan et du courage✨ partager\, vous sentir soutenu·e et entouré·e \nDans une ambiance bienveillante\, nous poserons les lettres\, les idées et les émotions\, pour révéler la force qui sommeille déjà en vous. \nLes places sont limitées\, alors réservez vite votre moment de bien-être et d’inspiration : https://tally.so/r/mVrOvaAu plaisir de vous rencontrer et de jouer avec les mots… et la confiance !
URL:https://www.yaplu-k.org/evenement/atelier-decriture-oser-la-confiance/
LOCATION:Safe Haven Café\, 2 Rue des dominicains\, Haguenau\, 67500\, France
ATTACH;FMTTYPE=image/jpeg:https://www.yaplu-k.org/wp-content/uploads/2025/09/Atelier-decriture-avec-scrabble.jpg
END:VEVENT
END:VCALENDAR