BEGIN:VCALENDAR
VERSION:2.0
PRODID:-//Yaplu-k - ECPv6.15.16//NONSGML v1.0//EN
CALSCALE:GREGORIAN
METHOD:PUBLISH
X-WR-CALNAME:Yaplu-k
X-ORIGINAL-URL:https://www.yaplu-k.org
X-WR-CALDESC:Évènements pour Yaplu-k
REFRESH-INTERVAL;VALUE=DURATION:PT1H
X-Robots-Tag:noindex
X-PUBLISHED-TTL:PT1H
BEGIN:VTIMEZONE
TZID:Europe/Paris
BEGIN:DAYLIGHT
TZOFFSETFROM:+0100
TZOFFSETTO:+0200
TZNAME:CEST
DTSTART:20240331T010000
END:DAYLIGHT
BEGIN:STANDARD
TZOFFSETFROM:+0200
TZOFFSETTO:+0100
TZNAME:CET
DTSTART:20241027T010000
END:STANDARD
BEGIN:DAYLIGHT
TZOFFSETFROM:+0100
TZOFFSETTO:+0200
TZNAME:CEST
DTSTART:20250330T010000
END:DAYLIGHT
BEGIN:STANDARD
TZOFFSETFROM:+0200
TZOFFSETTO:+0100
TZNAME:CET
DTSTART:20251026T010000
END:STANDARD
BEGIN:DAYLIGHT
TZOFFSETFROM:+0100
TZOFFSETTO:+0200
TZNAME:CEST
DTSTART:20260329T010000
END:DAYLIGHT
BEGIN:STANDARD
TZOFFSETFROM:+0200
TZOFFSETTO:+0100
TZNAME:CET
DTSTART:20261025T010000
END:STANDARD
END:VTIMEZONE
BEGIN:VEVENT
DTSTART;TZID=Europe/Paris:20250406T123000
DTEND;TZID=Europe/Paris:20250406T180000
DTSTAMP:20260425T024639
CREATED:20250303T154253Z
LAST-MODIFIED:20250303T154253Z
UID:5261-1743942600-1743962400@www.yaplu-k.org
SUMMARY:Loto Bingo 2025
DESCRIPTION:📢 Tous à vos agendas ! 🎉 \n🎲✨ Le prochain Loto Bingo arrive à grands pas ! ✨🎲 \n🔥 Une journée fun\, détendue et pleine de surprises vous attend… avec à la clé de superbes lots à gagner ! 🎁😍 \n📢 Partagez l’info et invitez vos amis\, votre famille\, vos voisins… Plus on est nombreux\, plus l’ambiance sera folle ! 🤩🎊 \nOn a hâte de vous retrouver ! 🥰 \n💛 L’équipe YA’PLU-K 💛
URL:https://www.yaplu-k.org/evenement/loto-bingo-2025/
LOCATION:Salle polyvalente à Menchhoffen\, Rue d'Uttwiller\, Menchhoffen\, 67340\, France
ATTACH;FMTTYPE=image/jpeg:https://www.yaplu-k.org/wp-content/uploads/2025/03/Affiche-A4-finale_page-0001.jpg
END:VEVENT
END:VCALENDAR