BEGIN:VCALENDAR
VERSION:2.0
PRODID:-//Yaplu-k - ECPv6.15.16//NONSGML v1.0//EN
CALSCALE:GREGORIAN
METHOD:PUBLISH
X-WR-CALNAME:Yaplu-k
X-ORIGINAL-URL:https://www.yaplu-k.org
X-WR-CALDESC:Évènements pour Yaplu-k
REFRESH-INTERVAL;VALUE=DURATION:PT1H
X-Robots-Tag:noindex
X-PUBLISHED-TTL:PT1H
BEGIN:VTIMEZONE
TZID:Europe/Paris
BEGIN:DAYLIGHT
TZOFFSETFROM:+0100
TZOFFSETTO:+0200
TZNAME:CEST
DTSTART:20230326T010000
END:DAYLIGHT
BEGIN:STANDARD
TZOFFSETFROM:+0200
TZOFFSETTO:+0100
TZNAME:CET
DTSTART:20231029T010000
END:STANDARD
BEGIN:DAYLIGHT
TZOFFSETFROM:+0100
TZOFFSETTO:+0200
TZNAME:CEST
DTSTART:20240331T010000
END:DAYLIGHT
BEGIN:STANDARD
TZOFFSETFROM:+0200
TZOFFSETTO:+0100
TZNAME:CET
DTSTART:20241027T010000
END:STANDARD
BEGIN:DAYLIGHT
TZOFFSETFROM:+0100
TZOFFSETTO:+0200
TZNAME:CEST
DTSTART:20250330T010000
END:DAYLIGHT
BEGIN:STANDARD
TZOFFSETFROM:+0200
TZOFFSETTO:+0100
TZNAME:CET
DTSTART:20251026T010000
END:STANDARD
BEGIN:DAYLIGHT
TZOFFSETFROM:+0100
TZOFFSETTO:+0200
TZNAME:CEST
DTSTART:20260329T010000
END:DAYLIGHT
BEGIN:STANDARD
TZOFFSETFROM:+0200
TZOFFSETTO:+0100
TZNAME:CET
DTSTART:20261025T010000
END:STANDARD
BEGIN:DAYLIGHT
TZOFFSETFROM:+0100
TZOFFSETTO:+0200
TZNAME:CEST
DTSTART:20270328T010000
END:DAYLIGHT
BEGIN:STANDARD
TZOFFSETFROM:+0200
TZOFFSETTO:+0100
TZNAME:CET
DTSTART:20271031T010000
END:STANDARD
END:VTIMEZONE
BEGIN:VEVENT
DTSTART;TZID=Europe/Paris:20260314T100000
DTEND;TZID=Europe/Paris:20260314T120000
DTSTAMP:20260420T090254
CREATED:20260310T191504Z
LAST-MODIFIED:20260310T191504Z
UID:5362-1773482400-1773489600@www.yaplu-k.org
SUMMARY:Atelier : Renforcer sa confiance en soi avec le Scrabble
DESCRIPTION:En début d’année\, nous prenons souvent le temps de poser des intentions\, d’imaginer ce que nous souhaitons voir évoluer dans notre vie\, nos projets ou notre manière d’être. \nMais entre les intentions et leur réalisation\, il y a un ingrédient essentiel : la confiance en soi. \nCet atelier est une invitation à renforcer cette confiance afin de continuer à avancer sur le chemin que vous avez choisi\, à votre rythme\, avec plus de sérénité et de légèreté. \nÀ travers un moment convivial et bienveillant\, nous utiliserons le jeu du Scrabble comme support ludique et inspirant pour explorer les mots\, les croyances et les ressources qui nous habitent. Jouer avec les lettres et les mots permet souvent de faire émerger de nouvelles perspectives\, de prendre conscience de ses forces et d’ouvrir des chemins inattendus. \nCet atelier vous permettra notamment de : \n\n\nprendre conscience de vos ressources et de vos forces \n\n\nrenforcer votre confiance en vous \n\n\ndépasser certaines croyances limitantes \n\n\nsoutenir les actions déjà engagées \n\n\nretrouver de l’élan pour poursuivre votre chemin \n\n\nAucun niveau particulier n’est nécessaire pour participer. L’essentiel est d’avoir l’envie de prendre un temps pour vous et d’explorer votre potentiel dans un cadre bienveillant. \nInformations pratiques\n📅 Samedi 14 mars📍 Café solidaire – Haguenau👥 Groupe limité pour favoriser les échanges \nCet atelier s’inscrit dans une démarche d’accompagnement qui invite chacun à se reconnecter à ses ressources\, à se mettre en mouvement et à trouver sa place avec confiance. \n👉 Les places étant limitées\, nous vous invitons à réserver votre place dès maintenant.
URL:https://www.yaplu-k.org/evenement/atelier-renforcer-sa-confiance-en-soi-avec-le-scrabble/
LOCATION:Safe Haven Café\, 2 Rue des dominicains\, Haguenau\, 67500\, France
CATEGORIES:profession
ATTACH;FMTTYPE=image/jpeg:https://www.yaplu-k.org/wp-content/uploads/2026/03/Atelier-decriture-avec-scrabble-2.jpg
END:VEVENT
BEGIN:VEVENT
DTSTART;TZID=Europe/Paris:20260215T123000
DTEND;TZID=Europe/Paris:20260215T180000
DTSTAMP:20260420T090254
CREATED:20260110T121248Z
LAST-MODIFIED:20260110T121248Z
UID:5322-1771158600-1771178400@www.yaplu-k.org
SUMMARY:Loto Bingo 2026
DESCRIPTION:𝐓𝐨𝐮𝐬 𝐚̀ 𝐯𝐨𝐬 𝐚𝐠𝐞𝐧𝐝𝐚𝐬 ! \n\n\n 𝐋𝐞 𝐩𝐫𝐨𝐜𝐡𝐚𝐢𝐧 𝐋𝐨𝐭𝐨 𝐁𝐢𝐧𝐠𝐨 𝐚𝐫𝐫𝐢𝐯𝐞 𝐚̀ 𝐠𝐫𝐚𝐧𝐝𝐬 𝐩𝐚𝐬 ! \n\n\n 𝐔𝐧𝐞 𝐣𝐨𝐮𝐫𝐧𝐞́𝐞 𝐟𝐮𝐧\, 𝐝𝐞́𝐭𝐞𝐧𝐝𝐮𝐞 𝐞𝐭 𝐩𝐥𝐞𝐢𝐧𝐞 𝐝𝐞 𝐬𝐮𝐫𝐩𝐫𝐢𝐬𝐞𝐬 vous attend… avec à la clé 𝐝𝐞 𝐬𝐮𝐩𝐞𝐫𝐛𝐞𝐬 𝐥𝐨𝐭𝐬 𝐚̀ 𝐠𝐚𝐠𝐧𝐞𝐫 ! \n\n\n 𝐏𝐚𝐫𝐭𝐚𝐠𝐞𝐳 𝐥’𝐢𝐧𝐟𝐨 et invitez vos amis\, votre famille\, vos voisins… Plus on est nombreux\, plus l’ambiance sera folle ! \n\n\n 𝐑𝐞𝐬𝐭𝐞𝐳 𝐜𝐨𝐧𝐧𝐞𝐜𝐭𝐞́𝐬 𝐩𝐨𝐮𝐫 𝐩𝐥𝐮𝐬 𝐝’𝐢𝐧𝐟𝐨𝐬 ! \n\n\nOn a hâte de vous retrouver ! \n\n\n 𝐋’𝐞́𝐪𝐮𝐢𝐩𝐞 𝐘𝐀’𝐏𝐋𝐔-𝐊
URL:https://www.yaplu-k.org/evenement/loto-bingo-2026/
LOCATION:Salle polyvalente à Menchhoffen\, Rue d'Uttwiller\, Menchhoffen\, 67340\, France
END:VEVENT
BEGIN:VEVENT
DTSTART;TZID=Europe/Paris:20260130T093000
DTEND;TZID=Europe/Paris:20260130T120000
DTSTAMP:20260420T090254
CREATED:20260117T114431Z
LAST-MODIFIED:20260117T114431Z
UID:5340-1769765400-1769774400@www.yaplu-k.org
SUMMARY:Atelier carte mentale - Poser ses intentions 2026
DESCRIPTION:𝐄𝐭 𝐬𝐢 𝐭𝐮 𝐩𝐫𝐞𝐧𝐚𝐢𝐬 𝐥𝐞 𝐭𝐞𝐦𝐩𝐬 𝐝𝐞 𝐝𝐞𝐬𝐬𝐢𝐧𝐞𝐫 𝐭𝐨𝐧 𝟐𝟎𝟐𝟔 ? \n\n\n\nLe vendredi 30 janvier\, l’association YA’PLU-K t’invite à un temps pour toi\, créatif et inspirant\, pour réaliser ta 𝐜𝐚𝐫𝐭𝐞 𝐦𝐞𝐧𝐭𝐚𝐥𝐞 𝟐𝟎𝟐𝟔 \n\n\n\n 𝐕𝐞𝐧𝐝𝐫𝐞𝐝𝐢 𝟑𝟎 𝐣𝐚𝐧𝐯𝐢𝐞𝐫\n 𝟗𝐡𝟑𝟎 – 𝟏𝟐𝐡\n 𝐇𝐚𝐠𝐮𝐞𝐧𝐚𝐮 – Café solidaire Safe Haven\n\n\n\nUn moment convivial pour poser tes intentions\, clarifier tes envies\, donner du sens à tes projets et repartir avec une vision claire et motivante de ton année à venir \n\n\n Ambiance chaleureuse\, échanges\, créativité et énergie positive au programme !\n\n\n\n Intéressé·e ? Envie d’en savoir plus ou de t’inscrire ?\nhttps://tally.so/r/RGMEvJ \n\n\n\nAu plaisir de partager ce moment avec toi \n\n\nChristelle
URL:https://www.yaplu-k.org/evenement/atelier-carte-mentale-poser-ses-intentions-2026/
LOCATION:Safe Haven Café\, 2 Rue des dominicains\, Haguenau\, 67500\, France
END:VEVENT
BEGIN:VEVENT
DTSTART;TZID=Europe/Paris:20251021T093000
DTEND;TZID=Europe/Paris:20251021T120000
DTSTAMP:20260420T090254
CREATED:20250920T093939Z
LAST-MODIFIED:20250920T093939Z
UID:5304-1761039000-1761048000@www.yaplu-k.org
SUMMARY:Atelier d'écriture : Oser la confiance !
DESCRIPTION:Et si vous veniez jouer une partie de Scrabble pas comme les autres ?Parce qu’il est parfois essentiel de s’arrêter… et de transformer nos maux en mots. \nQue vous soyez en reconversion\, porteur·se de projet\, en recherche d’emploi ou simplement en plein questionnement\, cet atelier d’écriture est une parenthèse pour :✨ reprendre confiance en vous✨ retrouver de l’élan et du courage✨ partager\, vous sentir soutenu·e et entouré·e \nDans une ambiance bienveillante\, nous poserons les lettres\, les idées et les émotions\, pour révéler la force qui sommeille déjà en vous. \nLes places sont limitées\, alors réservez vite votre moment de bien-être et d’inspiration : https://tally.so/r/mVrOvaAu plaisir de vous rencontrer et de jouer avec les mots… et la confiance !
URL:https://www.yaplu-k.org/evenement/atelier-decriture-oser-la-confiance/
LOCATION:Safe Haven Café\, 2 Rue des dominicains\, Haguenau\, 67500\, France
ATTACH;FMTTYPE=image/jpeg:https://www.yaplu-k.org/wp-content/uploads/2025/09/Atelier-decriture-avec-scrabble.jpg
END:VEVENT
BEGIN:VEVENT
DTSTART;TZID=Europe/Paris:20250406T123000
DTEND;TZID=Europe/Paris:20250406T180000
DTSTAMP:20260420T090254
CREATED:20250303T154253Z
LAST-MODIFIED:20250303T154253Z
UID:5261-1743942600-1743962400@www.yaplu-k.org
SUMMARY:Loto Bingo 2025
DESCRIPTION:📢 Tous à vos agendas ! 🎉 \n🎲✨ Le prochain Loto Bingo arrive à grands pas ! ✨🎲 \n🔥 Une journée fun\, détendue et pleine de surprises vous attend… avec à la clé de superbes lots à gagner ! 🎁😍 \n📢 Partagez l’info et invitez vos amis\, votre famille\, vos voisins… Plus on est nombreux\, plus l’ambiance sera folle ! 🤩🎊 \nOn a hâte de vous retrouver ! 🥰 \n💛 L’équipe YA’PLU-K 💛
URL:https://www.yaplu-k.org/evenement/loto-bingo-2025/
LOCATION:Salle polyvalente à Menchhoffen\, Rue d'Uttwiller\, Menchhoffen\, 67340\, France
ATTACH;FMTTYPE=image/jpeg:https://www.yaplu-k.org/wp-content/uploads/2025/03/Affiche-A4-finale_page-0001.jpg
END:VEVENT
BEGIN:VEVENT
DTSTART;TZID=Europe/Paris:20241107T093000
DTEND;TZID=Europe/Paris:20241107T120000
DTSTAMP:20260420T090254
CREATED:20241023T114432Z
LAST-MODIFIED:20241023T114853Z
UID:5182-1730971800-1730980800@www.yaplu-k.org
SUMMARY:(Re)gagner son estime à travers le vêtement
DESCRIPTION:Atelier Découverte : (Re)gagnez Votre Estime à Travers le Vêtement\nVous êtes en recherche d’emploi ? Vous avez un entretien d’embauche à préparer ? Vous souhaitez simplement retrouver confiance en vous à travers votre image ? Cet atelier est fait pour vous ! \nDans cet atelier découverte\, je vous propose de partir à la rencontre de vous-même à travers le vêtement. Nous explorerons ensemble comment l’habit peut devenir un véritable allié pour regagner confiance et estime de soi. \nPourquoi cet atelier ?\nQue vous soyez en pleine recherche d’emploi\, que vous ayez un entretien d’embauche à préparer\, ou que vous souhaitiez simplement vous sentir mieux dans votre peau\, l’image que vous renvoyez joue un rôle essentiel. En vous appropriant les codes vestimentaires et en choisissant des tenues qui vous correspondent vraiment\, vous pouvez renforcer votre présence\, faire passer un message clair et gagner en assurance. \nAu programme :\n\n\n\nComprendre son image personnelle : Quels sont vos atouts ? Quelle image souhaitez-vous renvoyer ? Nous ferons le point ensemble.\nLes bases du style : Comment choisir les vêtements qui vous mettent en valeur tout en respectant votre personnalité et le contexte professionnel ?\nS’habiller pour convaincre : Découverte des astuces et des codes vestimentaires pour réussir un entretien d’embauche ou un rendez-vous professionnel.\nAnalyse morphologique : Apprenez à identifier votre type de morphologie et découvrez quelles coupes\, formes et styles vous mettent le plus en valeur.\n\n\n\nQui peut participer ?\nCet atelier est ouvert à tous ceux et celles qui souhaitent regagner de l’estime de soi à travers le vêtement\, que ce soit pour des raisons professionnelles ou personnelles. Aucun prérequis en matière de mode n’est nécessaire : venez simplement avec l’envie de découvrir et d’apprendre. \nMerci de vous inscrire sur le site de l’événement (formulaire d’inscription)
URL:https://www.yaplu-k.org/evenement/regagner-son-estime-a-travers-le-vetement-copy/
LOCATION:Safe Haven Café\, 2 Rue des dominicains\, Haguenau\, 67500\, France
CATEGORIES:profession
ATTACH;FMTTYPE=image/jpeg:https://www.yaplu-k.org/wp-content/uploads/2024/10/Visuel-1.jpg
END:VEVENT
BEGIN:VEVENT
DTSTART;TZID=Europe/Paris:20241022T093000
DTEND;TZID=Europe/Paris:20241022T120000
DTSTAMP:20260420T090254
CREATED:20241014T174653Z
LAST-MODIFIED:20241015T144659Z
UID:5166-1729589400-1729598400@www.yaplu-k.org
SUMMARY:(Re)gagner son estime à travers le vêtement
DESCRIPTION:Atelier Découverte : (Re)gagnez Votre Estime à Travers le Vêtement\nVous êtes en recherche d’emploi ? Vous avez un entretien d’embauche à préparer ? Vous souhaitez simplement retrouver confiance en vous à travers votre image ? Cet atelier est fait pour vous ! \nDans cet atelier découverte\, je vous propose de partir à la rencontre de vous-même à travers le vêtement. Nous explorerons ensemble comment l’habit peut devenir un véritable allié pour regagner confiance et estime de soi. \nPourquoi cet atelier ?\nQue vous soyez en pleine recherche d’emploi\, que vous ayez un entretien d’embauche à préparer\, ou que vous souhaitiez simplement vous sentir mieux dans votre peau\, l’image que vous renvoyez joue un rôle essentiel. En vous appropriant les codes vestimentaires et en choisissant des tenues qui vous correspondent vraiment\, vous pouvez renforcer votre présence\, faire passer un message clair et gagner en assurance. \nAu programme :\n\n\n\nComprendre son image personnelle : Quels sont vos atouts ? Quelle image souhaitez-vous renvoyer ? Nous ferons le point ensemble.\nLes bases du style : Comment choisir les vêtements qui vous mettent en valeur tout en respectant votre personnalité et le contexte professionnel ?\nS’habiller pour convaincre : Découverte des astuces et des codes vestimentaires pour réussir un entretien d’embauche ou un rendez-vous professionnel.\nAnalyse morphologique : Apprenez à identifier votre type de morphologie et découvrez quelles coupes\, formes et styles vous mettent le plus en valeur.\n\n\n\nQui peut participer ?\nCet atelier est ouvert à tous ceux et celles qui souhaitent regagner de l’estime de soi à travers le vêtement\, que ce soit pour des raisons professionnelles ou personnelles. Aucun prérequis en matière de mode n’est nécessaire : venez simplement avec l’envie de découvrir et d’apprendre. \nMerci de vous inscrire sur le site de l’événement (formulaire d’inscription)
URL:https://www.yaplu-k.org/evenement/regagner-son-estime-a-travers-le-vetement/
LOCATION:Safe Haven Café\, 2 Rue des dominicains\, Haguenau\, 67500\, France
CATEGORIES:profession
ATTACH;FMTTYPE=image/jpeg:https://www.yaplu-k.org/wp-content/uploads/2024/10/Visuel.jpg
END:VEVENT
BEGIN:VEVENT
DTSTART;TZID=Europe/Paris:20241006T133000
DTEND;TZID=Europe/Paris:20241006T180000
DTSTAMP:20260420T090254
CREATED:20240908T145259Z
LAST-MODIFIED:20240908T145259Z
UID:5123-1728221400-1728237600@www.yaplu-k.org
SUMMARY:Alsace en Jeu
DESCRIPTION:Notre candidature ayant été retenu à la suite de l’appel à projets lancé par la Communauté des Communes Hanau La Petite Pierre sur le thème de “La Culture 2024”\, nous organisons une journée ludique portée sur le patrimoine culturel alsacien le dimanche 6 octobre 2024 de 13H30 à 18H à la salle polyvalente de Menchhoffen. \nPlusieurs jeux réalisés par notre équipe du Pôle Evénementiel seront tournés autour de la géographie\, des spécialités culinaires\, des lieux emblématiques\, des personnalités\, de la lecture et de la musique \nC’est ainsi que vous pourrez : \n\nJouer à un quiz “Jeder Weiss etwass“\nPlacer des châteaux\, des villes\, des musées… sur une carte géographique “Ja wie esch dann dess” par équipe\nLire des poèmes\, des poésies et des contes alsaciens “A bessele reuh“\nRetrouver notre cigogne sous forme de Cluedo “Wer hot d’Schtork geklaut ?“\nParticiper à une fresque inclusive “Wele ner molle“\nChanter des chansons alsaciennes “Wer singt am beschte“\n\navec la participation du claviériste Gilles Klopfenstein \n(2) Facebook \nCette journée est l’occasion de partager un moment agréable\, de découvrir notre association et d’échanger ensemble \nDes petites spécialités alsaciennes vous seront proposées sur place !!! \nNous avons hâte de vous rencontrer \nL’équipe YA’PLU-K \n 
URL:https://www.yaplu-k.org/evenement/alsace-en-jeu/
LOCATION:salle polyvalente
ATTACH;FMTTYPE=image/jpeg:https://www.yaplu-k.org/wp-content/uploads/2024/09/Visuel-communication-scaled.jpg
END:VEVENT
BEGIN:VEVENT
DTSTART;TZID=Europe/Paris:20240528T140000
DTEND;TZID=Europe/Paris:20240528T170000
DTSTAMP:20260420T090254
CREATED:20240430T094838Z
LAST-MODIFIED:20240613T091034Z
UID:3679-1716904800-1716915600@www.yaplu-k.org
SUMMARY:Atelier d'écriture : Poser vos maux avec des mots
DESCRIPTION:Le 28 mai 2024\, de 14H à 17H\, l’association YA’PLU-K vous propose d’explorer votre confiance pour mener à bien vos projets. \nQue vous soyez porteur.se.s de projet\, en reconversion professionnelle\, en recherche d’emploi\, en proie à des doutes\, face à des questionnements ; \nQue vous avez besoin de vous motiver\, de vous sentir entouré.e\, de reprendre du courage dans vos démarches professionnelles ; \nVenez nous retrouver pour jouer une partie de scrabble pas comme les autres 😉
URL:https://www.yaplu-k.org/evenement/atelier-decriture-poser-vos-maux-avec-des-mots/
LOCATION:Safe Haven Café\, 2 Rue des dominicains\, Haguenau\, 67500\, France
CATEGORIES:profession
ATTACH;FMTTYPE=image/jpeg:https://www.yaplu-k.org/wp-content/uploads/2024/04/Atelier-ecriture.jpg
END:VEVENT
END:VCALENDAR